BEGIN:VCALENDAR
VERSION:2.0
PRODID:-//wp-events-plugin.com//7.2.2.1//EN
BEGIN:VEVENT
UID:31@kayu.ch
DTSTART:20170612T163000Z
DTEND:20170612T203000Z
DTSTAMP:20251030T164357Z
URL:https://kayu.ch/events/lundi-12-juin-soiree-culturelle-musicale-et-din
 tegration/
SUMMARY:Lundi 12 juin\, Soirée culturelle musicale et d’intégration
DESCRIPTION:Chers amis\, élèves et collaborateurs\,\n\nNous vous proposon
 s une sortie culturelle musicale\, mais également d’intégration\, à V
 ictoria Hall de Genève. Nous sommes persuadés que l’intégration est l
 a preuve d’une ouverture de l’esprit vers l’universalité. Nous rend
 ons hommage de cette façon à cette ville d’accueil\, internationale\, 
 qui abrite en son sein un vecteur d’universalité et d’émotions\, car
  quoi de plus universel que la musique ? Nous allons vous présenter un br
 ef historique de cette salle de spectacle\, lieu incontournable à Genève
 . Et\, oui\, préparez-vous à réviser votre vocabulaire des émotions\, 
 en français\, car après le spectacle\, une fois immergés dans ce vécu 
 émotionnel\, nous allons en parler autour d’un verre. Ce sera égalemen
 t l’occasion de témoigner des moments émotionnels forts de votre vie\,
  du rôle de la culture et notamment de la musique sur le chemin d’une v
 ie et sur le chemin de l’intégration.\n\nRdv à l’arrêt du tram 12\,
  Place de Neuve\, le lundi 12 à 18h30\n\nL’atelier est prévu pour les 
 apprenants de français et aimant la musique\n\nLe billet d’entrée à l
 a charge des participants sur https://www.ville-ge.ch/culture/victoria_hal
 l/\n\nPour plus d’informations merci d’envoyer un email à info@kayu.c
 h\n\nou de téléphoner au 076 287 40 14\n\nL’équipe de K@yu Intégrati
 on
CATEGORIES:Agenda
END:VEVENT
END:VCALENDAR