BEGIN:VCALENDAR
VERSION:2.0
PRODID:-//wp-events-plugin.com//7.2.2.1//EN
BEGIN:VEVENT
UID:51@kayu.ch
DTSTART:20210709T170000Z
DTEND:20210709T190000Z
DTSTAMP:20251030T164631Z
URL:https://kayu.ch/events/assemblee-generale-de-lassociation-kyu-integrat
 ion/
SUMMARY:Assemblée Générale de l’Association K@yu - Intégration
DESCRIPTION:Convocation à l’Assemblée Générale de l’Association K@y
 u -Intégration\nÀ ses membres\nLe Président\, le comité et l’équipe
  de K@yu ont le plaisir de vous inviter à son Assemblée Générale qui a
 ura lieu dans l’ Espace de quartier Le 99\, Rue de Lyon 99\, 1203\, Gen
 ève.\nVendredi 9 juilllet 2021 á 19hs\nORDRE DU JOUR\n\n1. Ouverture de 
 l’Assemblée Générale et mot de bienvenue du Président\n2. Approbatio
 n du P. V. de la dernière A. G. du 8 juin 2020\n3. Rapport d’activités
 \n4. Rapport financier du Trésorier et vérification des comptes\n5. Elec
 tions du président et du Comité.\n6. Divers\n\nNous nous réjouissons d'
 ores et déjà de vous voir nombreux à cette Assemblée qui sera suivie p
 ar un apéritif.\nPour des questions d’organisation\, nous vous remercio
 ns de bien vouloir vérifier dès maintenant votre disponibilité et de no
 us indiquer si vous y participerez ou non avant le 7 juillet.\nContact : i
 nfo@kayu.ch\n\nJosé Romero\nPrésident
CATEGORIES:Agenda
END:VEVENT
END:VCALENDAR