BEGIN:VCALENDAR
VERSION:2.0
PRODID:-//wp-events-plugin.com//7.2.2.1//EN
BEGIN:VEVENT
UID:17@kayu.ch
DTSTART:20160406T173000Z
DTEND:20160406T173000Z
DTSTAMP:20251030T164102Z
URL:https://kayu.ch/events/2eme-trimestre-de-cours-despagnol-b1b1-commence
 -le-6-avril/
SUMMARY:2ème trimestre de cours d’espagnol B1/B1+\, commence le 6 avril
DESCRIPTION:Chers élèves\,\n\nNous vous informons que le 2ème trimestre 
 de cours d’espagnol B1/B1+\, commence le 6 avril 2016 á 19h 30 au 9\, C
 ité Vieusseux\, 1203\, Genève\,\n\nVous pouvez vous inscrire par email:i
 nfo@kayu.ch où téléphone:076-597-4966\n\nNous nous réjouissons de retr
 ouver nos fidèles élèves et d’accueillir les nouveaux!!!\n\nSoledad D
 artiguelongue\, prof d’espagnol
CATEGORIES:Agenda,Espagnol
END:VEVENT
END:VCALENDAR