BEGIN:VCALENDAR
VERSION:2.0
PRODID:-//wp-events-plugin.com//7.2.2.1//EN
BEGIN:VEVENT
UID:24@kayu.ch
DTSTART:20161211T130000Z
DTEND:20161211T173000Z
DTSTAMP:20251030T164224Z
URL:https://kayu.ch/events/11-decembre-2016-le-grand-cortege-de-lescalade-
 genevoise-entre-histoire-et-legende/
SUMMARY:11 décembre 2016\, Le grand cortège de l’Escalade genevoise : e
 ntre histoire et légende
DESCRIPTION:Chers amis\, chers collègues\, chers élèves\,\n\nLa fête de
  l’Escalade approche à grands pas et à cette occasion nous avons le pl
 aisir de vous inviter à vivre en direct l’événement le plus marquant 
 de la ville de Genève et de vous accompagner durant le grand cortège de 
 dimanche après-midi.\n\nDepuis 414 ans\, les Genevois fêtent avec joie e
 t fierté la glorieuse défense de leur cité face à l’attaque intempes
 tive des troupes savoyardes dirigées par le duc Charles Emmanuel.\n\nComm
 ent les Genevois ont bravé leurs ennemis ? Quel rôle a joué une simple 
 marmite dans cette victoire légendaire ? Qui est la Mère Royaume ? Et co
 mment s’habillaient les Genevois au début du 17ème siècle ?\n\nVoilà
  autant de questions auxquelles nous vous incitons à réfléchir jusqu’
 à notre rencontre du 11 décembre.\n\nQu’allons nous faire concrètemen
 t ?\n\nD’abord nous nous rencontrerons á 15:00 hs dans nos locaux pour 
 faire la connaissance les uns des autres et nous immerger de manière ludi
 que dans le mode de vie des Genevois au 17ème siècle : leurs costumes\, 
 leurs métiers\, leurs ennemis et leurs plats préférés (en français).\
 n\nEnsuite\, à la nuit tombante\, nous prendrons nos jambes à notre cou 
 en direction du Parc des Bastions où commencera le défilé des plus beau
 x costumes de l’époque et des chevaliers à torche.\n\nNous allons fini
 r par trinquer un verre de vin chaud préparé par la Mère Royaume qui ve
 ille encore et toujours sur notre chère cité.\n\nFrais de participation 
 : 10 CHF\, (pour les élèves Kayu 5 CHF)\n\nNous vous y attendons nombreu
 x !\n\nPour plus d’informations appelez au 076 287 40 14\n\nL’équipe 
 de K@yu Intégration
CATEGORIES:Agenda
END:VEVENT
END:VCALENDAR